BEGIN:VCALENDAR
VERSION:2.0
PRODID:-//STARFLEET PetFleet - ECPv6.15.20//NONSGML v1.0//EN
CALSCALE:GREGORIAN
METHOD:PUBLISH
X-WR-CALNAME:STARFLEET PetFleet
X-ORIGINAL-URL:https://petfleet.sfi.org
X-WR-CALDESC:Events for STARFLEET PetFleet
REFRESH-INTERVAL;VALUE=DURATION:PT1H
X-Robots-Tag:noindex
X-PUBLISHED-TTL:PT1H
BEGIN:VTIMEZONE
TZID:America/Toronto
BEGIN:DAYLIGHT
TZOFFSETFROM:-0500
TZOFFSETTO:-0400
TZNAME:EDT
DTSTART:20240310T070000
END:DAYLIGHT
BEGIN:STANDARD
TZOFFSETFROM:-0400
TZOFFSETTO:-0500
TZNAME:EST
DTSTART:20241103T060000
END:STANDARD
BEGIN:DAYLIGHT
TZOFFSETFROM:-0500
TZOFFSETTO:-0400
TZNAME:EDT
DTSTART:20250309T070000
END:DAYLIGHT
BEGIN:STANDARD
TZOFFSETFROM:-0400
TZOFFSETTO:-0500
TZNAME:EST
DTSTART:20251102T060000
END:STANDARD
BEGIN:DAYLIGHT
TZOFFSETFROM:-0500
TZOFFSETTO:-0400
TZNAME:EDT
DTSTART:20260308T070000
END:DAYLIGHT
BEGIN:STANDARD
TZOFFSETFROM:-0400
TZOFFSETTO:-0500
TZNAME:EST
DTSTART:20261101T060000
END:STANDARD
END:VTIMEZONE
BEGIN:VEVENT
DTSTART;TZID=America/Toronto:20250408T234900
DTEND;TZID=America/Toronto:20250517T234900
DTSTAMP:20260421T084710
CREATED:20250408T031935Z
LAST-MODIFIED:20250408T033233Z
UID:3540-1744156140-1747525740@petfleet.sfi.org
SUMMARY:STARFLEET Petfleet ZGI Contest
DESCRIPTION:
URL:https://petfleet.sfi.org/event/starfleet-petfleet-zgi-contest/
CATEGORIES:Contest
ATTACH;FMTTYPE=image/jpeg:https://petfleet.sfi.org/storage/sites/28/2025/04/Mascot-ZGI-to-the-moon.jpg
ORGANIZER;CN="STARFLEET Petfleet":MAILTO:petfleet@sfi.org
END:VEVENT
END:VCALENDAR