BEGIN:VCALENDAR
VERSION:2.0
PRODID:-//STARFLEET PetFleet - ECPv6.15.20//NONSGML v1.0//EN
CALSCALE:GREGORIAN
METHOD:PUBLISH
X-WR-CALNAME:STARFLEET PetFleet
X-ORIGINAL-URL:https://petfleet.sfi.org
X-WR-CALDESC:Events for STARFLEET PetFleet
REFRESH-INTERVAL;VALUE=DURATION:PT1H
X-Robots-Tag:noindex
X-PUBLISHED-TTL:PT1H
BEGIN:VTIMEZONE
TZID:America/Toronto
BEGIN:DAYLIGHT
TZOFFSETFROM:-0500
TZOFFSETTO:-0400
TZNAME:EDT
DTSTART:20240310T070000
END:DAYLIGHT
BEGIN:STANDARD
TZOFFSETFROM:-0400
TZOFFSETTO:-0500
TZNAME:EST
DTSTART:20241103T060000
END:STANDARD
BEGIN:DAYLIGHT
TZOFFSETFROM:-0500
TZOFFSETTO:-0400
TZNAME:EDT
DTSTART:20250309T070000
END:DAYLIGHT
BEGIN:STANDARD
TZOFFSETFROM:-0400
TZOFFSETTO:-0500
TZNAME:EST
DTSTART:20251102T060000
END:STANDARD
BEGIN:DAYLIGHT
TZOFFSETFROM:-0500
TZOFFSETTO:-0400
TZNAME:EDT
DTSTART:20260308T070000
END:DAYLIGHT
BEGIN:STANDARD
TZOFFSETFROM:-0400
TZOFFSETTO:-0500
TZNAME:EST
DTSTART:20261101T060000
END:STANDARD
END:VTIMEZONE
BEGIN:VEVENT
DTSTART;TZID=America/Toronto:20250419T200000
DTEND;TZID=America/Toronto:20250419T220000
DTSTAMP:20260421T090915
CREATED:20250413T021140Z
LAST-MODIFIED:20250413T021140Z
UID:3572-1745092800-1745100000@petfleet.sfi.org
SUMMARY:Star Trek IV: The Voyage Home
DESCRIPTION:Star Trek IV: The Voyage Home – A Mission to Save Earth\nStar Trek IV: The Voyage Home (1986) runs approximately 1 hour and 59 minutes and is one of the most memorable entries in the Star Trek film series. After rescuing Spock\, the crew of the Enterprise returns to Earth\, only to discover the planet is under threat from an alien probe. Their only hope lies in the past—specifically\, in 1986 San Francisco—where they must locate and transport two humpback whales to the future to respond to the probe’s call and save humanity.​ \nThis light-hearted yet meaningful film shares an important message: the need to protect our environment and endangered species. The story reminds us that every creature has value and that Earth’s future may depend on the actions we take today. \nNOTE: We ask that everyone attending stream the episode locally; you will need access to this episode on a streaming service or DVD/Blu-ray. We do not typically stream the episode for you due to technical and copyright restrictions. \nWhere to Watch \nYou can stream Star Trek IV: The Voyage Home on the following platforms:​ \n\nParamount+: https://www.paramountplus.com/movies/video/zvFuafECT5CoX9iJGGSWsRQrf8QyRkvp/\nAmazon Prime Video: https://www.amazon.com/Star-Trek-IV-Voyage-Home/dp/B000HZGNEU\nYouTube Movies: https://www.youtube.com/watch?v=UtXFPYVCSfk\n\nPlease note that availability may vary based on your location and subscription status. \nTopic: STARFLEET Petfleet Watch Party\nTime: April 19th\, 2025\, 08:00 PM Eastern Time (US and Canada) \nPLEASE NOTE: Once we start playing the episode\, no one else will be allowed to join the watch party Zoom; this is necessary to avoid interrupting people’s enjoyment of watching the episode. Please show up no later than 8:16 pm Eastern. \nJoin Zoom Meeting \nLink: https://us02web.zoom.us/j/87178552642?pwd=IgLVjhUT0HOiIV6LkW1kKACvJRhhGO.1\nMeeting ID: 871 7855 2642\nPasscode: 996270
URL:https://petfleet.sfi.org/event/star-trek-iv-the-voyage-home/
LOCATION:Zoom Meeting
CATEGORIES:Watch Party
ATTACH;FMTTYPE=image/jpeg:https://petfleet.sfi.org/storage/sites/28/2025/04/star_trek_iv_wallpaper_by_pzns_de4yg40.jpg
ORGANIZER;CN="STARFLEET Petfleet":MAILTO:petfleet@sfi.org
END:VEVENT
END:VCALENDAR