BEGIN:VCALENDAR
VERSION:2.0
PRODID:-//STARFLEET PetFleet - ECPv6.15.20//NONSGML v1.0//EN
CALSCALE:GREGORIAN
METHOD:PUBLISH
X-WR-CALNAME:STARFLEET PetFleet
X-ORIGINAL-URL:https://petfleet.sfi.org
X-WR-CALDESC:Events for STARFLEET PetFleet
REFRESH-INTERVAL;VALUE=DURATION:PT1H
X-Robots-Tag:noindex
X-PUBLISHED-TTL:PT1H
BEGIN:VTIMEZONE
TZID:America/Toronto
BEGIN:DAYLIGHT
TZOFFSETFROM:-0500
TZOFFSETTO:-0400
TZNAME:EDT
DTSTART:20230312T070000
END:DAYLIGHT
BEGIN:STANDARD
TZOFFSETFROM:-0400
TZOFFSETTO:-0500
TZNAME:EST
DTSTART:20231105T060000
END:STANDARD
BEGIN:DAYLIGHT
TZOFFSETFROM:-0500
TZOFFSETTO:-0400
TZNAME:EDT
DTSTART:20240310T070000
END:DAYLIGHT
BEGIN:STANDARD
TZOFFSETFROM:-0400
TZOFFSETTO:-0500
TZNAME:EST
DTSTART:20241103T060000
END:STANDARD
BEGIN:DAYLIGHT
TZOFFSETFROM:-0500
TZOFFSETTO:-0400
TZNAME:EDT
DTSTART:20250309T070000
END:DAYLIGHT
BEGIN:STANDARD
TZOFFSETFROM:-0400
TZOFFSETTO:-0500
TZNAME:EST
DTSTART:20251102T060000
END:STANDARD
BEGIN:DAYLIGHT
TZOFFSETFROM:-0500
TZOFFSETTO:-0400
TZNAME:EDT
DTSTART:20260308T070000
END:DAYLIGHT
BEGIN:STANDARD
TZOFFSETFROM:-0400
TZOFFSETTO:-0500
TZNAME:EST
DTSTART:20261101T060000
END:STANDARD
END:VTIMEZONE
BEGIN:VEVENT
DTSTART;TZID=America/Toronto:20250111T200000
DTEND;TZID=America/Toronto:20250111T220000
DTSTAMP:20260421T152745
CREATED:20241222T025949Z
LAST-MODIFIED:20250311T002619Z
UID:3093-1736625600-1736632800@petfleet.sfi.org
SUMMARY:Watch Party - "Please Stand By"
DESCRIPTION:STARFLEET Petfleet Special Movie Watch Party\nJoin Us for “Please Stand By” on Saturday\, January 11th\, 2024\, at 8 PM Eastern \nSTARFLEET Petfleet is thrilled to invite all STARFLEET members to a special watch party featuring the heartwarming and adventurous film\, “Please Stand By”. \nAbout the Movie – 2018\, 1h 32m\, Comedy\, Drama\nPlease Stand By tells the inspiring story of Wendy\, a brilliant autistic woman with a passion for Star Trek. Wendy embarks on a bold journey from her San Francisco group home to submit her 450-page Star Trek script to a screenwriting contest in Los Angeles. Along the way\, she overcomes challenges\, finds unexpected allies\, and demonstrates her determination and creativity. \nThis uplifting film showcases Wendy’s courage\, her love for Star Trek\, and her ability to defy the odds while following her dreams. Don’t miss this touching and inspiring movie—it’s a must-watch for all STARFLEET members! \nHow to Watch\nWe’ll be streaming the movie from a free streaming source during the event. If you can’t attend the watch party\, you can view it on your own using the link below:\nPlex: https://watch.plex.tv/movie/please-stand-by-2018 \nEvent Details\nTopic: STARFLEET Petfleet Special Movie Watch Party\nDate: Saturday\, January 11th\, 2024\nTime: 8 PM EST\, 1 AM UTC\, 7 PM CST\, 6 PM MST\, & 5 PM PST\nLocation: Online via Zoom \nZoom Meeting Details\nJoin Here: Zoom Link\nMeeting ID: 871 7855 2642\nPasscode: 996270 \nSnuggle up with your pet and grab some popcorn\, bring your favourite beverage\, and join us for an unforgettable movie night. We can’t wait to see you there!
URL:https://petfleet.sfi.org/event/watch-party-please-stand-by/
LOCATION:Zoom Meeting
CATEGORIES:Watch Party
ATTACH;FMTTYPE=image/jpeg:https://petfleet.sfi.org/storage/sites/28/2024/12/SFPet-Please-Stand-By.jpg
ORGANIZER;CN="STARFLEET Petfleet":MAILTO:petfleet@sfi.org
END:VEVENT
BEGIN:VEVENT
DTSTART;TZID=America/Toronto:20241102T170000
DTEND;TZID=America/Toronto:20241102T180000
DTSTAMP:20260421T152745
CREATED:20241027T145712Z
LAST-MODIFIED:20250311T002619Z
UID:2322-1730566800-1730570400@petfleet.sfi.org
SUMMARY:Website Launch & AMA
DESCRIPTION:
URL:https://petfleet.sfi.org/event/website-launch-ama/
LOCATION:Zoom Meeting
CATEGORIES:Zoom Meeting
ATTACH;FMTTYPE=image/jpeg:https://petfleet.sfi.org/storage/sites/28/2024/10/STARFLEET-Petfleet-event-cover.jpg
ORGANIZER;CN="STARFLEET Petfleet":MAILTO:petfleet@sfi.org
END:VEVENT
END:VCALENDAR