BEGIN:VCALENDAR
VERSION:2.0
PRODID:-//STARFLEET PetFleet - ECPv6.15.20//NONSGML v1.0//EN
CALSCALE:GREGORIAN
METHOD:PUBLISH
X-ORIGINAL-URL:https://petfleet.sfi.org
X-WR-CALDESC:Events for STARFLEET PetFleet
REFRESH-INTERVAL;VALUE=DURATION:PT1H
X-Robots-Tag:noindex
X-PUBLISHED-TTL:PT1H
BEGIN:VTIMEZONE
TZID:America/Toronto
BEGIN:DAYLIGHT
TZOFFSETFROM:-0500
TZOFFSETTO:-0400
TZNAME:EDT
DTSTART:20250309T070000
END:DAYLIGHT
BEGIN:STANDARD
TZOFFSETFROM:-0400
TZOFFSETTO:-0500
TZNAME:EST
DTSTART:20251102T060000
END:STANDARD
BEGIN:DAYLIGHT
TZOFFSETFROM:-0500
TZOFFSETTO:-0400
TZNAME:EDT
DTSTART:20260308T070000
END:DAYLIGHT
BEGIN:STANDARD
TZOFFSETFROM:-0400
TZOFFSETTO:-0500
TZNAME:EST
DTSTART:20261101T060000
END:STANDARD
BEGIN:DAYLIGHT
TZOFFSETFROM:-0500
TZOFFSETTO:-0400
TZNAME:EDT
DTSTART:20270314T070000
END:DAYLIGHT
BEGIN:STANDARD
TZOFFSETFROM:-0400
TZOFFSETTO:-0500
TZNAME:EST
DTSTART:20271107T060000
END:STANDARD
END:VTIMEZONE
BEGIN:VEVENT
DTSTART;VALUE=DATE:20260422
DTEND;VALUE=DATE:20260512
DTSTAMP:20260421T015853
CREATED:20260310T174701Z
LAST-MODIFIED:20260310T175346Z
UID:4413-1776816000-1778543999@petfleet.sfi.org
SUMMARY:Project Earth Nature & Wilderness Clean Up
DESCRIPTION:Join forces with fellow crew members\, family\, and friends to restore and rejuvenate local parks\, nature reserves\, wilderness areas and shorelines by removing litter and debris. Together\, we can make our world a cleaner\, healthier place for all. \nThis initiative runs between Tuesday\, April 22\, 2026 (Earth Day)\, and Sunday\, May 11\, 2026 and aligns with our commitment to environmental stewardship. Whether it’s a city park\, a hiking trail\, or a beachside cleanup\, every action counts. Let’s make a difference—one bag of trash at a time! \nProject Earth Event link: \nProject Earth \n \nWilderness Cleanup link: \nProject Earth Wilderness Park Cleanup
URL:https://petfleet.sfi.org/event/project-earth-nature-wilderness-clean-up/
LOCATION:Your Local Parks
ATTACH;FMTTYPE=image/jpeg:https://petfleet.sfi.org/storage/sites/28/2026/02/Project-Earth-Banner-1920.jpg
ORGANIZER;CN="STARFLEET Petfleet":MAILTO:petfleet@sfi.org
END:VEVENT
END:VCALENDAR